Workbook

Sheet Таблица соответствия
E1: Таблица соответствия кодов бюджетной классификации расходов республиканского бюджета Республики Мордовия
A3: Код | B3: Код | C3: Код | D3: Код | E3: 2016 год | F3: 2015 год | G3: Наименование
A4: 01 | B4: 0 | C4: 00 | D4: 00000 | E4: =A4&B4&C4&D4 -> 0100000000 | F4: =LEFT(E4,3)&LEFT(D4,4) -> 0100000 | G4: Государственная программа развития здравоохранения Республики Мордовия на 2013-2020 годы
A5: 01 | B5: 1 | C5: 00 | D5: 00000 | E5: =A5&B5&C5&D5 -> 0110000000 | F5: =LEFT(E5,3)&LEFT(D5,4) -> 0110000 | G5: Подпрограмма «Профилактика заболеваний и формирование здорового образа жизни. Развитие первичной медико-санитарной помощи»
A6: 01 | B6: 1 | C6: 01 | D6: 00000 | E6: =A6&B6&C6&D6 -> 0110100000 | G6: Основное мероприятие «Развитие системы медицинской профилактики неинфекционных заболеваний и формирования здорового образа жизни»
A7: 01 | B7: 1 | C7: 01 | D7: 30930 | E7: =A7&B7&C7&D7 -> 0110130930 | F7: =LEFT(E7,3)&LEFT(D7,4) -> 0113093 | G7: Оказание отдельным категориям граждан государственной социальной помощи по обеспечению лекарственными препаратами, медицинскими изделиями, а также специализированными продуктами лечебного питания для детей-инвалидов
A8: 01 | B8: 1 | C8: 01 | D8: 51330 | E8: =A8&B8&C8&D8 -> 0110151330 | F8: =LEFT(E8,3)&LEFT(D8,4) -> 0115133 | G8: Осуществление организационных мероприятий по обеспечению лиц лекарственными препаратами, предназначенными для лечения больных злокачественными новообразованиями лимфоидной, кроветворной и родственных им тканей, гемофилией, муковисцидозом, гипофизарным нанизмом, болезнью Гоше, рассеянным склерозом, а также после трансплантации органов и (или) тканей
A9: 01 | B9: 1 | C9: 01 | D9: 51610 | E9: =A9&B9&C9&D9 -> 0110151610 | F9: =LEFT(E9,3)&LEFT(D9,4) -> 0115161 | G9: Реализация отдельных полномочий в области лекарственного обеспечения
A10: 01 | B10: 1 | C10: 01 | D10: 81350 | E10: =A10&B10&C10&D10 -> 0110181350 | F10: =LEFT(E10,3)&LEFT(D10,4) -> 0118135 | G10: Поликлиники, амбулатории, диагностические центры
A11: 01 | B11: 1 | C11: 01 | D11: 81490 | E11: =A11&B11&C11&D11 -> 0110181490 | F11: =LEFT(E11,3)&LEFT(D11,4) -> 0118149 | G11: Периодические издания, учрежденные органами законодательной и исполнительной власти
A12: 01 | B12: 1 | C12: 01 | D12: 85030 | E12: =A12&B12&C12&D12 -> 0110185030 | F12: =LEFT(E12,3)&LEFT(D12,4) -> 0118503 | G12: Мероприятия, направленные на формирование здорового образа жизни у граждан Российской Федерации, включая сокращение потребления алкоголя и табака
A13: 01 | B13: 1 | C13: 01 | D13: 85090 | E13: =A13&B13&C13&D13 -> 0110185090 | F13: =LEFT(E13,3)&LEFT(D13,4) -> 0118509 | G13: Осуществление организационных мероприятий по обеспечению лиц лекарственными препаратами, предназначенными для лечения больных злокачественными новообразованиями лимфоидной, кроветворной и родственных им тканей, гемофилией, муковисцидозом, гипофизарным нанизмом, болезнью Гоше, рассеянным склерозом, а также после трансплантации органов и (или) тканей за счет республиканского бюджета Республики Мордовия
A14: 01 | B14: 1 | C14: 02 | D14: 00000 | E14: =A14&B14&C14&D14 -> 0110200000 | G14: Основное мероприятие «Профилактика инфекционных заболеваний, включая иммунопрофилактику»
A15: 01 | B15: 1 | C15: 02 | D15: 81410 | E15: =A15&B15&C15&D15 -> 0110281410 | F15: =LEFT(E15,3)&LEFT(D15,4) -> 0118141 | G15: Дезинфекционные станции
A16: 01 | B16: 1 | C16: 02 | D16: 85010 | E16: =A16&B16&C16&D16 -> 0110285010 | F16: =LEFT(E16,3)&LEFT(D16,4) -> 0118501 | G16: Централизованные закупки медикаментов и медицинского оборудования
A17: 01 | B17: 1 | C17: 03 | D17: 00000 | E17: =A17&B17&C17&D17 -> 0110300000 | G17: Основное мероприятие «Профилактика ВИЧ, вирусных гепатитов B и C»
A18: 01 | B18: 1 | C18: 03 | D18: 51790 | E18: =A18&B18&C18&D18 -> 0110351790 | F18: =LEFT(E18,3)&LEFT(D18,4) -> 0115179 | G18: Реализация мероприятий по профилактике ВИЧ-инфекции и гепатитов В и С
A19: 01 | B19: 1 | C19: 03 | D19: 85010 | E19: =A19&B19&C19&D19 -> 0110385010 | F19: =LEFT(E19,3)&LEFT(D19,4) -> 0118501 | G19: Централизованные закупки медикаментов и медицинского оборудования
A20: 01 | B20: 1 | C20: 04 | D20: 00000 | E20: =A20&B20&C20&D20 -> 0110400000 | G20: Основное мероприятие «Развитие первичной медико-санитарной помощи, а также системы раннего выявления заболеваний, патологических состояний и факторов риска их развития, включая проведение медицинских осмотров и диспансеризации населения»
A21: 01 | B21: 1 | C21: 04 | D21: 79010 | E21: =A21&B21&C21&D21 -> 0110479010 | F21: =LEFT(E21,3)&LEFT(D21,4) -> 0117901 | G21: Средства на обязательное медицинское страхование неработающего населения в качестве уплаты страховых взносов
A22: 01 | B22: 1 | C22: 04 | D22: 79020 | E22: =A22&B22&C22&D22 -> 0110479020 | F22: =LEFT(E22,3)&LEFT(D22,4) -> 0117902 | G22: Средства на дополнительное финансовое обеспечение реализации территориальной программы обязательного медицинского страхования в части базовой программы обязательного медицинского страхования
A23: 01 | B23: 1 | C23: 04 | D23: 81330 | E23: =A23&B23&C23&D23 -> 0110481330 | F23: =LEFT(E23,3)&LEFT(D23,4) -> 0118133 | G23: Больницы, клиники, госпитали, медико-санитарные части
A24: 01 | B24: 1 | C24: 04 | D24: 81350 | E24: =A24&B24&C24&D24 -> 0110481350 | F24: =LEFT(E24,3)&LEFT(D24,4) -> 0118135 | G24: Поликлиники, амбулатории, диагностические центры
A25: 01 | B25: 1 | C25: 04 | D25: 81360 | E25: =A25&B25&C25&D25 -> 0110481360 | F25: =LEFT(E25,3)&LEFT(D25,4) -> 0118136 | G25: Фельдшерско-акушерские пункты
A26: 01 | B26: 1 | C26: 04 | D26: 81420 | E26: =A26&B26&C26&D26 -> 0110481420 | F26: =LEFT(E26,3)&LEFT(D26,4) -> 0118142 | G26: Учреждения, обеспечивающие предоставление услуг в сфере здравоохранения
A27: 01 | B27: 1 | C27: 04 | D27: 85010 | E27: =A27&B27&C27&D27 -> 0110485010 | F27: =LEFT(E27,3)&LEFT(D27,4) -> 0118501 | G27: Централизованные закупки медикаментов и медицинского оборудования
A28: 01 | B28: 1 | C28: 04 | D28: 85060 | E28: =A28&B28&C28&D28 -> 0110485060 | F28: =LEFT(E28,3)&LEFT(D28,4) -> 0118506 | G28: Мероприятия в области здравоохранения
A29: 01 | B29: 1 | C29: 05 | D29: 00000 | E29: =A29&B29&C29&D29 -> 0110500000 | G29: Основное мероприятие «Совершенствование механизмов обеспечения населения лекарственными препаратами, медицинскими изделиями, специализированными продуктами лечебного питания для детей-инвалидов в амбулаторных условиях»
A30: 01 | B30: 2 | C30: 00 | D30: 00000 | E30: =A30&B30&C30&D30 -> 0120000000 | F30: =LEFT(E30,3)&LEFT(D30,4) -> 0120000 | G30: Подпрограмма «Совершенствование оказания специализированной, включая высокотехнологичную, медицинской помощи»
A31: 01 | B31: 2 | C31: 01 | D31: 00000 | E31: =A31&B31&C31&D31 -> 0120100000 | G31: Основное мероприятие «Совершенствование системы оказания медицинской помощи больным туберкулезом»
A32: 01 | B32: 2 | C32: 01 | D32: 51740 | E32: =A32&B32&C32&D32 -> 0120151740 | F32: =LEFT(E32,3)&LEFT(D32,4) -> 0125174 | G32: Реализация отдельных полномочий в области лекарственного обеспечения финансовое обеспечение закупок антибактериальных и противотуберкулезных лекарственных препаратов (второго ряда), применяемых при лечении больных туберкулезом с множественной лекарственной устойчивостью возбудителя, и диагностических средств для выявления, определения чувствительности микобактерии туберкулеза и мониторинга лечения больных туберкулезом с множественной лекарственной устойчивостью возбудителя реализацию мероприятий по профилактике ВИЧ-инфекции и гепатитов B и C
A33: 01 | B33: 2 | C33: 01 | D33: 81330 | E33: =A33&B33&C33&D33 -> 0120181330 | F33: =LEFT(E33,3)&LEFT(D33,4) -> 0128133 | G33: Больницы, клиники, госпитали, медико-санитарные части
A34: 01 | B34: 2 | C34: 01 | D34: 85010 | E34: =A34&B34&C34&D34 -> 0120185010 | F34: =LEFT(E34,3)&LEFT(D34,4) -> 0128501 | G34: Централизованные закупки медикаментов и медицинского оборудования
A35: 01 | B35: 2 | C35: 02 | D35: 00000 | E35: =A35&B35&C35&D35 -> 0120200000 | G35: Основное мероприятие «Совершенствование оказания медицинской помощи лицам, инфицированным вирусом иммунодефицита человека, гепатитами B и C»
A36: 01 | B36: 2 | C36: 02 | D36: 50720 | E36: =A36&B36&C36&D36 -> 0120250720 | F36: =LEFT(E36,3)&LEFT(D36,4) -> 0125072 | G36: Финансовое обеспечение закупок антивирусных препаратов для профилактики и лечения лиц, инфицированных вирусами иммунодефицита человека и гепатитов B и C
A37: 01 | B37: 2 | C37: 02 | D37: 53820 | E37: =A37&B37&C37&D37 -> 0120253820 | F37: =LEFT(E37,3)&LEFT(D37,4) -> 0125382 | G37: Реализация отдельных мероприятий государственной программы Российской Федерации «Развитие здравоохранения»
A38: 01 | B38: 2 | C38: 02 | D38: 81330 | E38: =A38&B38&C38&D38 -> 0120281330 | F38: =LEFT(E38,3)&LEFT(D38,4) -> 0128133 | G38: Больницы, клиники, госпитали, медико-санитарные части
A39: 01 | B39: 2 | C39: 02 | D39: 81420 | E39: =A39&B39&C39&D39 -> 0120281420 | F39: =LEFT(E39,3)&LEFT(D39,4) -> 0128142 | G39: Учреждения, обеспечивающие предоставление услуг в сфере здравоохранения
A40: 01 | B40: 2 | C40: 02 | D40: 85080 | E40: =A40&B40&C40&D40 -> 0120285080 | F40: =LEFT(E40,3)&LEFT(D40,4) -> 0128508 | G40: Финансовое обеспечение закупок антивирусных препаратов для профилактики и лечения лиц, инфицированных вирусами иммунодефицита человека и гепатитов B и C за счет средств республиканского бюджета Республики Мордовия
A41: 01 | B41: 2 | C41: 02 | D41: R3820 | E41: =A41&B41&C41&D41 -> 01202R3820 | F41: =LEFT(E41,3)&VLOOKUP(D41,[1]НР!$A$3:$D$548,3,FALSE) -> 0128511 | G41: Софинансирование реализации отдельных мероприятий государственной программы Российской Федерации «Развитие здравоохранения»
...
